BEGIN:VCALENDAR
VERSION:2.0
PRODID:-//CiviCRM//NONSGML CiviEvent iCal//EN
X-WR-TIMEZONE:America/Chicago
METHOD:PUBLISH
BEGIN:VTIMEZONE
TZID:America/Chicago
BEGIN:DAYLIGHT
TZOFFSETFROM:-0500
TZOFFSETTO:-0500
TZNAME:CDT
DTSTART:20260709T130000
END:DAYLIGHT
END:VTIMEZONE
BEGIN:VEVENT
UID:CiviCRM_EventID_2270_d4fcb126cea8f728274f6f239701ebb4@connect.jocogov.org
SUMMARY:Center Director Training *ZOOM*
X-ALT-DESC;FMTTYPE=text/html:<!DOCTYPE HTML PUBLIC
  "-//W3C//DTD HTML 3.2//EN"><html><body><p><strong
 >Class Credits:</strong> 1.5 Clock Hours</p>\n \n 
 <p><strong>Certificates will be available in your 
 connect profile after the completion of the course
 </strong></p>\n \n <p><span style="font-size:11pt\
 ;"><span style="line-height:107%\;"><span style="f
 ont-family:Calibri\, sans-serif\;"><strong><span s
 tyle="font-family:Calibri\, sans-serif\;">Virtual 
 Class Expectations: </span></strong><em><span styl
 e="font-family:Calibri\, sans-serif\;">Virtual tra
 ining events are professional development opportun
 ities that <b>require</b> <u>your attendance\, ful
 l attention\, and participation</u>. You should <b
 ><u>not</u></b> participate in activities that wou
 ld not be permitted during an in-person class (i.e
 . cooking\, driving\, sleeping\, salon visits\, et
 c.).</span></em> If the virtual class expectations
  are not met\, you will not receive KDHE clock hou
 rs\, a certificate of completion or a credit/refun
 d.</span></span></span></p>\n \n <p><strong>Please
  Note: </strong><em>This is a private class open o
 nly to participants of the <a href="https://www.jo
 cogov.org/dept/health-and-environment/health/child
 -care-licensing/overview" rel="noreferrer noopener
 " target="_blank">Child Care Program</a>. If you w
 ish to enroll in this class\, you must first <a hr
 ef="/https://www.jocogov.org/department/health-and
 -environment/child-care-licensing">login to the we
 bsite</a> and choose from the class options availa
 ble. If you don't already have a user account\, yo
 u will be asked to register as part of the class r
 egistration process. </em></p></body></html>
DESCRIPTION:Class Credits: 1.5 Clock Hours\n \n \n \n Certific
 ates will be available in your connect profile aft
 er the completion of the course\n \n \n \n Virtual
  Class Expectations: Virtual training events are p
 rofessional development opportunities that require
  your attendance\, full attention\, and participat
 ion. You should not participate in activities that
  would not be permitted during an in-person class 
 (i.e. cooking\, driving\, sleeping\, salon visits\
 , etc.). If the virtual class expectations are not
  met\, you will not receive KDHE clock hours\, a c
 ertificate of completion or a credit/refund.\n \n 
 \n \n Please Note: This is a private class open on
 ly to participants of the Child Care Program (http
 s://www.jocogov.org/dept/health-and-environment/he
 alth/child-care-licensing/overview). If you wish t
 o enroll in this class\, you must first login to t
 he website (/https://www.jocogov.org/department/he
 alth-and-environment/child-care-licensing) and cho
 ose from the class options available. If you don't
  already have a user account\, you will be asked t
 o register as part of the class registration proce
 ss. \n \n 
CATEGORIES:Child Care Class
CALSCALE:GREGORIAN
DTSTAMP;TZID=America/Chicago:20260709T130000
DTSTART;TZID=America/Chicago:20260709T130000
DTEND;TZID=America/Chicago:20260709T150000
LOCATION:VIRTUAL SETTING - ZOOM\n Olathe\, KS 66061\n 
URL:https://connect.jocogov.org/civicrm/event/info?reset=1&id=2270
END:VEVENT
END:VCALENDAR
