BEGIN:VCALENDAR
VERSION:2.0
PRODID:-//CiviCRM//NONSGML CiviEvent iCal//EN
X-WR-TIMEZONE:America/Chicago
METHOD:PUBLISH
BEGIN:VTIMEZONE
TZID:America/Chicago
BEGIN:STANDARD
TZOFFSETFROM:-0600
TZOFFSETTO:-0600
TZNAME:CST
DTSTART:20261104T180000
END:STANDARD
END:VTIMEZONE
BEGIN:VEVENT
UID:CiviCRM_EventID_2273_d4fcb126cea8f728274f6f239701ebb4@connect.jocogov.org
SUMMARY:Safe Sleep Practices and SIDS *ZOOM
X-ALT-DESC;FMTTYPE=text/html:<!DOCTYPE HTML PUBLIC
  "-//W3C//DTD HTML 3.2//EN"><html><body><p><strong
 >Class Credits:</strong> 2 Clock Hours</p>\n \n <p
 ><strong>Certificates will be available in your co
 nnect profile after the completion of the course</
 strong></p>\n \n <p><strong>Please Note: </strong>
 <em>This is a private class open only to participa
 nts of the <a href="https://www.jocogov.org/dept/h
 ealth-and-environment/health/child-care-licensing/
 overview" rel="noreferrer noopener" target="_blank
 ">Child Care Program</a>. If you wish to enroll in
  this class\, you must first <a href="https://conn
 ect.jocogov.org/user">login to the website</a> and
  choose from the class options available. If you d
 on't already have a user account\, you will be ask
 ed to register as part of the class registration p
 rocess. </em></p>\n \n <p><em>No refunds will be g
 iven for this class. Transfers or credits for an u
 pcoming class will be given if email recieved grea
 ter that 24 hours before the class. Email stacey.s
 troh@jocogov.org</em></p>\n \n <p>Payment must be 
 made at the time of registration. If you reserve a
  spot in the class and do not make a payment the s
 ystem will not let you return for payment. </p></b
 ody></html>
DESCRIPTION:Class Credits: 2 Clock Hours\n \n \n \n Certificat
 es will be available in your connect profile after
  the completion of the course\n \n \n \n Please No
 te: This is a private class open only to participa
 nts of the Child Care Program (https://www.jocogov
 .org/dept/health-and-environment/health/child-care
 -licensing/overview). If you wish to enroll in thi
 s class\, you must first login to the website (htt
 ps://connect.jocogov.org/user) and choose from the
  class options available. If you don't already hav
 e a user account\, you will be asked to register a
 s part of the class registration process. \n \n \n
  \n No refunds will be given for this class. Trans
 fers or credits for an upcoming class will be give
 n if email recieved greater that 24 hours before t
 he class. Email stacey.stroh@jocogov.org\n \n \n \
 n Payment must be made at the time of registration
 . If you reserve a spot in the class and do not ma
 ke a payment the system will not let you return fo
 r payment. \n \n 
CATEGORIES:Child Care Class
CALSCALE:GREGORIAN
DTSTAMP;TZID=America/Chicago:20261104T180000
DTSTART;TZID=America/Chicago:20261104T180000
DTEND;TZID=America/Chicago:20261104T200000
LOCATION:ZOOM\n (Zoom link will be sent after registration 
 is complete)\n KS \n 
URL:https://connect.jocogov.org/civicrm/event/info?reset=1&id=2273
END:VEVENT
END:VCALENDAR
