BEGIN:VCALENDAR
VERSION:2.0
PRODID:-//CiviCRM//NONSGML CiviEvent iCal//EN
X-WR-TIMEZONE:America/Chicago
METHOD:PUBLISH
BEGIN:VTIMEZONE
TZID:America/Chicago
BEGIN:DAYLIGHT
TZOFFSETFROM:-0500
TZOFFSETTO:-0500
TZNAME:CDT
DTSTART:20260813T183000
END:DAYLIGHT
END:VTIMEZONE
BEGIN:VEVENT
UID:CiviCRM_EventID_2293_d4fcb126cea8f728274f6f239701ebb4@connect.jocogov.org
SUMMARY:Center Regulations *ZOOM
X-ALT-DESC;FMTTYPE=text/html:<!DOCTYPE HTML PUBLIC
  "-//W3C//DTD HTML 3.2//EN"><html><body><p><strong
 >Class Credits:</strong> 2 Clock Hours</p>\n \n <p
 ><strong>Certificates will be available in your co
 nnect profile after the completion of the course</
 strong></p>\n \n <p><strong>Please Note: </strong>
 <em>This is a private class open only to participa
 nts of the <a href="https://www.jocogov.org/dept/h
 ealth-and-environment/health/child-care-licensing/
 overview" rel="noreferrer noopener" target="_blank
 ">Child Care Program</a>. If you wish to enroll in
  this class\, you must first <a href="/user">login
  to the website</a> and choose from the class opti
 ons available. If you don't already have a user ac
 count\, you will be asked to register as part of t
 he class registration process. </em></p>\n \n <p><
 em>No refunds will be given for this class. Transf
 ers or credits for an upcoming class will be given
  if email recieved greater that 24 hours before th
 e class. Email stacey.stroh@jocogov.org</em></p>\n
  \n <p>Payment must be made at the time of registr
 ation. If you reserve a spot in the class and do n
 ot make a payment the system will not let you retu
 rn for payment. </p></body></html>
DESCRIPTION:Class Credits: 2 Clock Hours\n \n \n \n Certificat
 es will be available in your connect profile after
  the completion of the course\n \n \n \n Please No
 te: This is a private class open only to participa
 nts of the Child Care Program (https://www.jocogov
 .org/dept/health-and-environment/health/child-care
 -licensing/overview). If you wish to enroll in thi
 s class\, you must first login to the website (/us
 er) and choose from the class options available. I
 f you don't already have a user account\, you will
  be asked to register as part of the class registr
 ation process. \n \n \n \n No refunds will be give
 n for this class. Transfers or credits for an upco
 ming class will be given if email recieved greater
  that 24 hours before the class. Email stacey.stro
 h@jocogov.org\n \n \n \n Payment must be made at t
 he time of registration. If you reserve a spot in 
 the class and do not make a payment the system wil
 l not let you return for payment. \n \n 
CATEGORIES:Child Care Class
CALSCALE:GREGORIAN
DTSTAMP;TZID=America/Chicago:20260813T183000
DTSTART;TZID=America/Chicago:20260813T183000
DTEND;TZID=America/Chicago:20260813T203000
LOCATION:VIRTUAL SETTING - ZOOM\n 
URL:https://connect.jocogov.org/civicrm/event/info?reset=1&id=2293
END:VEVENT
END:VCALENDAR
