BEGIN:VCALENDAR
VERSION:2.0
PRODID:-//CiviCRM//NONSGML CiviEvent iCal//EN
X-WR-TIMEZONE:America/Chicago
METHOD:PUBLISH
BEGIN:VTIMEZONE
TZID:America/Chicago
BEGIN:STANDARD
TZOFFSETFROM:-0600
TZOFFSETTO:-0600
TZNAME:CST
DTSTART:20261210T183000
END:STANDARD
END:VTIMEZONE
BEGIN:VEVENT
UID:CiviCRM_EventID_2295_d4fcb126cea8f728274f6f239701ebb4@connect.jocogov.org
SUMMARY:Center Regulations *ZOOM
X-ALT-DESC;FMTTYPE=text/html:<!DOCTYPE HTML PUBLIC
  "-//W3C//DTD HTML 3.2//EN"><html><body><p><strong
 >Class Credits:</strong> 2 Clock Hours</p>\n \n <p
 ><strong>Certificates will be available in your co
 nnect profile after the completion of the course.<
 /strong></p>\n \n <p><strong>Please Note: </strong
 ><em>This is a private class open only to particip
 ants of the <a href="https://www.jocogov.org/dept/
 health-and-environment/health/child-care-licensing
 /overview" rel="noreferrer noopener" target="_blan
 k">Child Care Program</a>. If you wish to enroll i
 n this class\, you must first <a href="/user">logi
 n to the website</a> and choose from the class opt
 ions available. If you don't already have a user a
 ccount\, you will be asked to register as part of 
 the class registration process. </em></p>\n \n <p>
 <em>No refunds will be given for this class. Trans
 fers or credits for an upcoming class will be give
 n if email recieved greater that 24 hours before t
 he class. Email stacey.stroh@jocogov.org</em></p>\
 n \n <p>Payment must be made at the time of regist
 ration. If you reserve a spot in the class and do 
 not make a payment the system will not let you ret
 urn for payment. </p></body></html>
DESCRIPTION:Class Credits: 2 Clock Hours\n \n \n \n Certificat
 es will be available in your connect profile after
  the completion of the course.\n \n \n \n Please N
 ote: This is a private class open only to particip
 ants of the Child Care Program (https://www.jocogo
 v.org/dept/health-and-environment/health/child-car
 e-licensing/overview). If you wish to enroll in th
 is class\, you must first login to the website (/u
 ser) and choose from the class options available. 
 If you don't already have a user account\, you wil
 l be asked to register as part of the class regist
 ration process. \n \n \n \n No refunds will be giv
 en for this class. Transfers or credits for an upc
 oming class will be given if email recieved greate
 r that 24 hours before the class. Email stacey.str
 oh@jocogov.org\n \n \n \n Payment must be made at 
 the time of registration. If you reserve a spot in
  the class and do not make a payment the system wi
 ll not let you return for payment. \n \n 
CATEGORIES:Child Care Class
CALSCALE:GREGORIAN
DTSTAMP;TZID=America/Chicago:20261210T183000
DTSTART;TZID=America/Chicago:20261210T183000
DTEND;TZID=America/Chicago:20261210T203000
LOCATION:VIRTUAL SETTING - ZOOM\n 
URL:https://connect.jocogov.org/civicrm/event/info?reset=1&id=2295
END:VEVENT
END:VCALENDAR
