BEGIN:VCALENDAR
VERSION:2.0
PRODID:-//CiviCRM//NONSGML CiviEvent iCal//EN
X-WR-TIMEZONE:America/Chicago
METHOD:PUBLISH
BEGIN:VTIMEZONE
TZID:America/Chicago
BEGIN:DAYLIGHT
TZOFFSETFROM:-0500
TZOFFSETTO:-0500
TZNAME:CDT
DTSTART:20261026T180000
END:DAYLIGHT
END:VTIMEZONE
BEGIN:VEVENT
UID:CiviCRM_EventID_2427_d4fcb126cea8f728274f6f239701ebb4@connect.jocogov.org
SUMMARY:Children Grieve Too *ZOOM*
X-ALT-DESC;FMTTYPE=text/html:<!DOCTYPE HTML PUBLIC
  "-//W3C//DTD HTML 3.2//EN"><html><body><p style="
 margin-bottom:11px\;"><span style="font-size:12pt\
 ;"><span style="line-height:115%\;"><span style="f
 ont-family:Aptos\, sans-serif\;"><i>Children\, no 
 matter how young they are\, do feel the absence of
  a loved one. This course will cover how we can he
 lp our children grieve a loss with support in thei
 r environments including within the home and in th
 e classroom. The influence of families on their yo
 ung children shows the effect they have on their s
 uccessful coping\, or struggle\, with death. With 
 children attending school or childcare settings ma
 ny of their days\, teachers have an opportunity to
  help children learn about death\, coping\, and gr
 ieving in a healthy way. This course has details s
 pecifically geared toward children aged three to f
 ive years but could be adapted for younger or olde
 r children.</i></span></span></span></p></body></h
 tml>
DESCRIPTION:Children\, no matter how young they are\, do feel 
 the absence of a loved one. This course will cover
  how we can help our children grieve a loss with s
 upport in their environments including within the 
 home and in the classroom. The influence of famili
 es on their young children shows the effect they h
 ave on their successful coping\, or struggle\, wit
 h death. With children attending school or childca
 re settings many of their days\, teachers have an 
 opportunity to help children learn about death\, c
 oping\, and grieving in a healthy way. This course
  has details specifically geared toward children a
 ged three to five years but could be adapted for y
 ounger or older children.\n \n 
CATEGORIES:Child Care Class
CALSCALE:GREGORIAN
DTSTAMP;TZID=America/Chicago:20261026T180000
DTSTART;TZID=America/Chicago:20261026T180000
DTEND;TZID=America/Chicago:20261026T200000
LOCATION:VIRTUAL SETTING - ZOOM\n KS \n 
URL:https://connect.jocogov.org/civicrm/event/info?reset=1&id=2427
END:VEVENT
END:VCALENDAR
