BEGIN:VCALENDAR
VERSION:2.0
PRODID:-//CiviCRM//NONSGML CiviEvent iCal//EN
X-WR-TIMEZONE:America/Chicago
METHOD:PUBLISH
BEGIN:VTIMEZONE
TZID:America/Chicago
BEGIN:DAYLIGHT
TZOFFSETFROM:-0500
TZOFFSETTO:-0500
TZNAME:CDT
DTSTART:20260427T090000
END:DAYLIGHT
END:VTIMEZONE
BEGIN:VEVENT
UID:CiviCRM_EventID_2437_d4fcb126cea8f728274f6f239701ebb4@connect.jocogov.org
SUMMARY:Parents Forever: Level 3 - Zoom
X-ALT-DESC;FMTTYPE=text/html:<!DOCTYPE HTML PUBLIC
  "-//W3C//DTD HTML 3.2//EN"><html><body><h2>Parent
 s Forever: Level 3 is a required (6) hour class fo
 r parents filing for new divorce or paternity acti
 ons.</h2>\n \n <p><b>The class will address the fo
 llowing:</b></p>\n \n <ul>\n 	<li>Impact on kids</
 li>\n 	<li>Importance of co-parenting</li>\n 	<li>
 Parenting Plans</li>\n 	<li>Discuss skills to remo
 ve barriers</li>\n 	<li>Resources</li>\n 	<li>Resi
 liency</li>\n </ul>\n \n <p>All participants must 
 register separately and parents do not need to att
 end the course together.</p>\n \n <p><b>Class Fee:
  </b>$50.00</p>\n \n <p>If requesting an interpret
 er\, please register at least 2 weeks in advance.<
 /p>\n \n <p>To learn more or for questions\, pleas
 e contact Prevention and Community Relations at<a 
 href="tel:9137157880"> 913-715-7880</a> or <a href
 ="mailto:mnh-familyed@jocogov.org">mnh-familyed@jo
 cogov.org</a>.</p>\n \n <p><b>The minimum enrollme
 nt for the class is 10 participants. JCMHC reserve
 s the right to cancel courses that do not meet min
 imum enrollment levels.</b></p></body></html>
DESCRIPTION:Parents Forever: Level 3 is a required (6) hour cl
 ass for parents filing for new divorce or paternit
 y actions.\n \n \n The class will address the foll
 owing:\n \n \n \n \n 	Impact on kids\n 	Importance
  of co-parenting\n 	Parenting Plans\n 	Discuss ski
 lls to remove barriers\n 	Resources\n 	Resiliency\
 n \n \n All participants must register separately 
 and parents do not need to attend the course toget
 her.\n \n \n \n Class Fee: $50.00\n \n \n \n If re
 questing an interpreter\, please register at least
  2 weeks in advance.\n \n \n \n To learn more or f
 or questions\, please contact Prevention and Commu
 nity Relations at 913-715-7880 (tel:9137157880) or
  mnh-familyed@jocogov.org (mailto:mnh-familyed@joc
 ogov.org).\n \n \n \n The minimum enrollment for t
 he class is 10 participants. JCMHC reserves the ri
 ght to cancel courses that do not meet minimum enr
 ollment levels.\n \n 
CATEGORIES:Family Education
CALSCALE:GREGORIAN
DTSTAMP;TZID=America/Chicago:20260427T090000
DTSTART;TZID=America/Chicago:20260427T090000
DTEND;TZID=America/Chicago:20260427T150000
LOCATION:ZOOM\n KS \n 
URL:https://connect.jocogov.org/civicrm/event/info?reset=1&id=2437
END:VEVENT
END:VCALENDAR
