BEGIN:VCALENDAR
VERSION:2.0
PRODID:-//CiviCRM//NONSGML CiviEvent iCal//EN
X-WR-TIMEZONE:America/Chicago
METHOD:PUBLISH
BEGIN:VTIMEZONE
TZID:America/Chicago
BEGIN:DAYLIGHT
TZOFFSETFROM:-0500
TZOFFSETTO:-0500
TZNAME:CDT
DTSTART:20260521T180000
END:DAYLIGHT
END:VTIMEZONE
BEGIN:VEVENT
UID:CiviCRM_EventID_2492_d4fcb126cea8f728274f6f239701ebb4@connect.jocogov.org
SUMMARY:Third Thursdays - Parent Support Group
X-ALT-DESC;FMTTYPE=text/html:<!DOCTYPE HTML PUBLIC
  "-//W3C//DTD HTML 3.2//EN"><html><body><div style
 ="margin-bottom:11px\;">\n <div>\n <div style="mar
 gin-bottom: 11px\;"><span style="font-size:12pt"><
 span style="line-height:115%"><span style="font-fa
 mily:Aptos\,sans-serif">Join us for Third Thursday
 s\, a monthly evening parent support group offerin
 g practical tools\, meaningful conversation\, and 
 support for everyday parenting.<br />\n <br />\n T
 his session focuses on screen safety\, with guided
  discussion on the impact of smartphones and socia
 l media on mental health\, along with strategies f
 or healthy use and setting boundaries.<br />\n <br
  />\n Connect with other parents\, share experienc
 es\, and walk away with ideas you can use right aw
 ay.</span></span></span></div>\n \n <div style="ma
 rgin-bottom: 11px\;"><span style="font-size:12pt">
 <span style="line-height:115%"><span style="font-f
 amily:Aptos\,sans-serif"><b>What you’ll gain:</b><
 br />\n • Practical strategies for healthy screen 
 use<br />\n • Tips for setting technology boundari
 es<br />\n • Opportunities to connect and share wi
 th other parents<br />\n • A supportive\, judgment
 -free space</span></span></span></div>\n \n <div s
 tyle="margin-bottom: 11px\;"><span style="font-siz
 e:12pt"><span style="line-height:115%"><span style
 ="font-family:Aptos\,sans-serif"><b>Meeting Inform
 ation:</b></span></span></span></div>\n \n <div st
 yle="margin-bottom: 11px\;"><span style="font-size
 :12pt"><span style="line-height:115%"><span style=
 "font-family:Aptos\,sans-serif"><b>May 21\, 2026 |
  6:00 - 7 p.m.</b></span></span></span></div>\n \n
  <div><span style="font-size:12pt"><span style="li
 ne-height:normal"><span style="font-family:Aptos\,
 sans-serif"><b>Zoom </b></span></span></span></div
 >\n \n <div><span style="font-size:12pt"><span sty
 le="line-height:normal"><span style="font-family:A
 ptos\,sans-serif"><i>Link will be provided prior t
 o the session</i></span></span></span></div>\n \n 
 <div> </div>\n \n <div><span style="font-size:12pt
 "><span style="line-height:normal"><span style="fo
 nt-family:Aptos\,sans-serif">If you have any quest
 ions\, contact <b><u style="text-underline:thick">
 MNH-Parent-Support-Specialist@jocogov.org</u></b>.
 </span></span></span></div>\n </div>\n \n <p> </p>
 \n </div></body></html>
DESCRIPTION:\n \n Join us for Third Thursdays\, a monthly even
 ing parent support group offering practical tools\
 , meaningful conversation\, and support for everyd
 ay parenting.\n \n \n \n This session focuses on s
 creen safety\, with guided discussion on the impac
 t of smartphones and social media on mental health
 \, along with strategies for healthy use and setti
 ng boundaries.\n \n \n \n Connect with other paren
 ts\, share experiences\, and walk away with ideas 
 you can use right away.\n \n \n What you’ll gain:\
 n \n • Practical strategies for healthy screen use
 \n \n • Tips for setting technology boundaries\n \
 n • Opportunities to connect and share with other 
 parents\n \n • A supportive\, judgment-free space\
 n \n \n Meeting Information:\n \n \n May 21\, 2026
  | 6:00 - 7 p.m.\n \n \n Zoom \n \n \n Link will b
 e provided prior to the session\n \n \n  \n \n \n 
 If you have any questions\, contact MNH-Parent-Sup
 port-Specialist@jocogov.org.\n \n \n \n \n  \n \n 
 \n \n 
CATEGORIES:CFS Parent Portal
CALSCALE:GREGORIAN
DTSTAMP;TZID=America/Chicago:20260521T180000
DTSTART;TZID=America/Chicago:20260521T180000
DTEND;TZID=America/Chicago:20260521T190000
LOCATION:Virtual - Zoom\n 
URL:https://connect.jocogov.org/civicrm/event/info?reset=1&id=2492
END:VEVENT
END:VCALENDAR
