BEGIN:VCALENDAR
VERSION:2.0
PRODID:-//CiviCRM//NONSGML CiviEvent iCal//EN
X-WR-TIMEZONE:America/Chicago
METHOD:PUBLISH
BEGIN:VTIMEZONE
TZID:America/Chicago
BEGIN:DAYLIGHT
TZOFFSETFROM:-0500
TZOFFSETTO:-0500
TZNAME:CDT
DTSTART:20260513T180000
END:DAYLIGHT
END:VTIMEZONE
BEGIN:VEVENT
UID:CiviCRM_EventID_2495_d4fcb126cea8f728274f6f239701ebb4@connect.jocogov.org
SUMMARY:Rediscovering the  Outdoors
X-ALT-DESC;FMTTYPE=text/html:<!DOCTYPE HTML PUBLIC
  "-//W3C//DTD HTML 3.2//EN"><html><body><p><strong
 >Class Credits:</strong> 2 clock hours</p>\n \n <p
 ><strong>Please Note: </strong><em>This is a priva
 te class open only to participants of the <a href=
 "https://www.jocogov.org/dept/health-and-environme
 nt/health/child-care-licensing/overview" rel="nore
 ferrer noopener" target="_blank">Child Care Progra
 m</a>. If you wish to enroll in this class\, you m
 ust first <a href="/user">login to the website</a>
  and choose from the class options available. If y
 ou don't already have a user account\, you will be
  asked to register as part of the class registrati
 on process. </em></p>\n \n <p><em>No refunds will 
 be given for this class. Transfers or credits for 
 an upcoming class will be given if email recieved 
 greater that 24 hours before the class. Email stac
 ey.stroh@jocogov.org. </em></p>\n \n <p>Payment mu
 st be made at the time of registration. If you res
 erve a spot in the class and do not make a payment
  the system will not let you return for payment. <
 /p>\n \n <p> </p></body></html>
DESCRIPTION:Class Credits: 2 clock hours\n \n \n \n Please Not
 e: This is a private class open only to participan
 ts of the Child Care Program (https://www.jocogov.
 org/dept/health-and-environment/health/child-care-
 licensing/overview). If you wish to enroll in this
  class\, you must first login to the website (/use
 r) and choose from the class options available. If
  you don't already have a user account\, you will 
 be asked to register as part of the class registra
 tion process. \n \n \n \n No refunds will be given
  for this class. Transfers or credits for an upcom
 ing class will be given if email recieved greater 
 that 24 hours before the class. Email stacey.stroh
 @jocogov.org. \n \n \n \n Payment must be made at 
 the time of registration. If you reserve a spot in
  the class and do not make a payment the system wi
 ll not let you return for payment. \n \n \n \n  \n
  \n 
CATEGORIES:Child Care Class
CALSCALE:GREGORIAN
DTSTAMP;TZID=America/Chicago:20260513T180000
DTSTART;TZID=America/Chicago:20260513T180000
DTEND;TZID=America/Chicago:20260513T190000
LOCATION:Virtual - Zoom\n Olathe\, \n 
URL:https://connect.jocogov.org/civicrm/event/info?reset=1&id=2495
END:VEVENT
END:VCALENDAR
